
BEGIN:VCALENDAR
VERSION:2.0
PRODID:-//hacksw/handcal//NONSGML v1.0//EN
CALSCALE:GREGORIAN
BEGIN:VEVENT
DTEND:20260404T220000Z
UID:69ecd0154c5ad
DTSTAMP:20260425T143045Z
LOCATION:Arezzo
DESCRIPTION:Fiera antiquaria
URL;VALUE=URI:http://www.hotelpatio.it/eventi.php
SUMMARY:Fiera antiquaria
DTSTART:20260403T220000Z
END:VEVENT
END:VCALENDAR